BEGIN:VCALENDAR
VERSION:2.0
PRODID:-//NADI Kampung Tengah Peket 100 - ECPv6.15.20//NONSGML v1.0//EN
CALSCALE:GREGORIAN
METHOD:PUBLISH
X-WR-CALNAME:NADI Kampung Tengah Peket 100
X-ORIGINAL-URL:https://kgtghpeket100.nadi.my
X-WR-CALDESC:Events for NADI Kampung Tengah Peket 100
REFRESH-INTERVAL;VALUE=DURATION:PT1H
X-Robots-Tag:noindex
X-PUBLISHED-TTL:PT1H
BEGIN:VTIMEZONE
TZID:Asia/Kuala_Lumpur
BEGIN:STANDARD
TZOFFSETFROM:+0800
TZOFFSETTO:+0800
TZNAME:+08
DTSTART:20250101T000000
END:STANDARD
END:VTIMEZONE
BEGIN:VEVENT
DTSTART;TZID=Asia/Kuala_Lumpur:20260424T000000
DTEND;TZID=Asia/Kuala_Lumpur:20260424T000000
DTSTAMP:20260420T135551
CREATED:20260407T025404Z
LAST-MODIFIED:20260407T025404Z
UID:5659-1776988800-1776988800@kgtghpeket100.nadi.my
SUMMARY:EP Lesson 29
DESCRIPTION:
URL:https://kgtghpeket100.nadi.my/event/ep-lesson-29-6/
END:VEVENT
BEGIN:VEVENT
DTSTART;TZID=Asia/Kuala_Lumpur:20260425T000000
DTEND;TZID=Asia/Kuala_Lumpur:20260425T000000
DTSTAMP:20260420T135551
CREATED:20260407T003904Z
LAST-MODIFIED:20260407T003904Z
UID:5531-1777075200-1777075200@kgtghpeket100.nadi.my
SUMMARY:E-Sports Webinar
DESCRIPTION:
URL:https://kgtghpeket100.nadi.my/event/e-sports-webinar/
END:VEVENT
BEGIN:VEVENT
DTSTART;TZID=Asia/Kuala_Lumpur:20260425T000000
DTEND;TZID=Asia/Kuala_Lumpur:20260425T000000
DTSTAMP:20260420T135551
CREATED:20260407T004119Z
LAST-MODIFIED:20260407T004119Z
UID:5544-1777075200-1777075200@kgtghpeket100.nadi.my
SUMMARY:VOD Revision Video Sesi 38
DESCRIPTION:
URL:https://kgtghpeket100.nadi.my/event/vod-revision-video-sesi-38/
END:VEVENT
BEGIN:VEVENT
DTSTART;TZID=Asia/Kuala_Lumpur:20260425T000000
DTEND;TZID=Asia/Kuala_Lumpur:20260425T000000
DTSTAMP:20260420T135551
CREATED:20260407T004203Z
LAST-MODIFIED:20260407T004203Z
UID:5545-1777075200-1777075200@kgtghpeket100.nadi.my
SUMMARY:English Proficiency Lesson 29
DESCRIPTION:
URL:https://kgtghpeket100.nadi.my/event/english-proficiency-lesson-29/
END:VEVENT
BEGIN:VEVENT
DTSTART;TZID=Asia/Kuala_Lumpur:20260425T000000
DTEND;TZID=Asia/Kuala_Lumpur:20260425T000000
DTSTAMP:20260420T135551
CREATED:20260407T025405Z
LAST-MODIFIED:20260407T025405Z
UID:5660-1777075200-1777075200@kgtghpeket100.nadi.my
SUMMARY:Webinar Berkala Expression Series Sajak
DESCRIPTION:
URL:https://kgtghpeket100.nadi.my/event/webinar-berkala-expression-series-sajak-2/
END:VEVENT
BEGIN:VEVENT
DTSTART;TZID=Asia/Kuala_Lumpur:20260425T000000
DTEND;TZID=Asia/Kuala_Lumpur:20260425T000000
DTSTAMP:20260420T135551
CREATED:20260407T030759Z
LAST-MODIFIED:20260407T030759Z
UID:5661-1777075200-1777075200@kgtghpeket100.nadi.my
SUMMARY:VOD - Revision Video 38
DESCRIPTION:
URL:https://kgtghpeket100.nadi.my/event/vod-revision-video-38-7/
END:VEVENT
BEGIN:VEVENT
DTSTART;TZID=Asia/Kuala_Lumpur:20260425T000000
DTEND;TZID=Asia/Kuala_Lumpur:20260425T000000
DTSTAMP:20260420T135551
CREATED:20260407T030759Z
LAST-MODIFIED:20260407T030759Z
UID:5662-1777075200-1777075200@kgtghpeket100.nadi.my
SUMMARY:EP Lesson 29
DESCRIPTION:
URL:https://kgtghpeket100.nadi.my/event/ep-lesson-29-7/
END:VEVENT
BEGIN:VEVENT
DTSTART;TZID=Asia/Kuala_Lumpur:20260426T000000
DTEND;TZID=Asia/Kuala_Lumpur:20260426T000000
DTSTAMP:20260420T135551
CREATED:20260407T003903Z
LAST-MODIFIED:20260407T003903Z
UID:5530-1777161600-1777161600@kgtghpeket100.nadi.my
SUMMARY:E-Sports Awareness Class
DESCRIPTION:
URL:https://kgtghpeket100.nadi.my/event/e-sports-awareness-class-4/
END:VEVENT
BEGIN:VEVENT
DTSTART;TZID=Asia/Kuala_Lumpur:20260426T000000
DTEND;TZID=Asia/Kuala_Lumpur:20260426T000000
DTSTAMP:20260420T135551
CREATED:20260407T030759Z
LAST-MODIFIED:20260407T030759Z
UID:5663-1777161600-1777161600@kgtghpeket100.nadi.my
SUMMARY:Keputeraan Sultan Terengganu
DESCRIPTION:
URL:https://kgtghpeket100.nadi.my/event/keputeraan-sultan-terengganu-2/
END:VEVENT
BEGIN:VEVENT
DTSTART;TZID=Asia/Kuala_Lumpur:20260427T000000
DTEND;TZID=Asia/Kuala_Lumpur:20260427T000000
DTSTAMP:20260420T135551
CREATED:20260407T030759Z
LAST-MODIFIED:20260407T030759Z
UID:5664-1777248000-1777248000@kgtghpeket100.nadi.my
SUMMARY:VOD - Revision Video 39
DESCRIPTION:
URL:https://kgtghpeket100.nadi.my/event/vod-revision-video-39-3/
END:VEVENT
BEGIN:VEVENT
DTSTART;TZID=Asia/Kuala_Lumpur:20260428T000000
DTEND;TZID=Asia/Kuala_Lumpur:20260428T000000
DTSTAMP:20260420T135551
CREATED:20260407T030759Z
LAST-MODIFIED:20260407T030759Z
UID:5665-1777334400-1777334400@kgtghpeket100.nadi.my
SUMMARY:VOD - Revision Video 39
DESCRIPTION:
URL:https://kgtghpeket100.nadi.my/event/vod-revision-video-39-4/
END:VEVENT
BEGIN:VEVENT
DTSTART;TZID=Asia/Kuala_Lumpur:20260429T000000
DTEND;TZID=Asia/Kuala_Lumpur:20260429T000000
DTSTAMP:20260420T135551
CREATED:20260407T030814Z
LAST-MODIFIED:20260407T030814Z
UID:5666-1777420800-1777420800@kgtghpeket100.nadi.my
SUMMARY:Hari Kokurikulum
DESCRIPTION:
URL:https://kgtghpeket100.nadi.my/event/hari-kokurikulum-6/
END:VEVENT
BEGIN:VEVENT
DTSTART;TZID=Asia/Kuala_Lumpur:20260429T000000
DTEND;TZID=Asia/Kuala_Lumpur:20260429T000000
DTSTAMP:20260420T135551
CREATED:20260407T030814Z
LAST-MODIFIED:20260407T030814Z
UID:5667-1777420800-1777420800@kgtghpeket100.nadi.my
SUMMARY:VOD - Revision Video 39
DESCRIPTION:
URL:https://kgtghpeket100.nadi.my/event/vod-revision-video-39-5/
END:VEVENT
BEGIN:VEVENT
DTSTART;TZID=Asia/Kuala_Lumpur:20260430T000000
DTEND;TZID=Asia/Kuala_Lumpur:20260430T000000
DTSTAMP:20260420T135551
CREATED:20260407T003847Z
LAST-MODIFIED:20260407T003847Z
UID:5522-1777507200-1777507200@kgtghpeket100.nadi.my
SUMMARY:Video on Demand MICRO:BIT & ROBOTIK
DESCRIPTION:
URL:https://kgtghpeket100.nadi.my/event/video-on-demand-microbit-robotik/
END:VEVENT
BEGIN:VEVENT
DTSTART;TZID=Asia/Kuala_Lumpur:20260430T000000
DTEND;TZID=Asia/Kuala_Lumpur:20260430T000000
DTSTAMP:20260420T135551
CREATED:20260407T003848Z
LAST-MODIFIED:20260407T003848Z
UID:5526-1777507200-1777507200@kgtghpeket100.nadi.my
SUMMARY:WOD 7 Akaun Social Media Digodam
DESCRIPTION:
URL:https://kgtghpeket100.nadi.my/event/wod-7-akaun-social-media-digodam/
END:VEVENT
BEGIN:VEVENT
DTSTART;TZID=Asia/Kuala_Lumpur:20260430T000000
DTEND;TZID=Asia/Kuala_Lumpur:20260430T000000
DTSTAMP:20260420T135551
CREATED:20260407T004203Z
LAST-MODIFIED:20260407T004203Z
UID:5547-1777507200-1777507200@kgtghpeket100.nadi.my
SUMMARY:VOD Revision Video Sesi 39
DESCRIPTION:
URL:https://kgtghpeket100.nadi.my/event/vod-revision-video-sesi-39/
END:VEVENT
BEGIN:VEVENT
DTSTART;TZID=Asia/Kuala_Lumpur:20260430T000000
DTEND;TZID=Asia/Kuala_Lumpur:20260430T000000
DTSTAMP:20260420T135551
CREATED:20260407T030814Z
LAST-MODIFIED:20260407T030814Z
UID:5668-1777507200-1777507200@kgtghpeket100.nadi.my
SUMMARY:VOD - Revision Video 39
DESCRIPTION:
URL:https://kgtghpeket100.nadi.my/event/vod-revision-video-39-6/
END:VEVENT
BEGIN:VEVENT
DTSTART;TZID=Asia/Kuala_Lumpur:20260504T000000
DTEND;TZID=Asia/Kuala_Lumpur:20260504T000000
DTSTAMP:20260420T135551
CREATED:20260407T011640Z
LAST-MODIFIED:20260407T011640Z
UID:5553-1777852800-1777852800@kgtghpeket100.nadi.my
SUMMARY:Guidance Tuition MT Ting 4
DESCRIPTION:
URL:https://kgtghpeket100.nadi.my/event/guidance-tuition-mt-ting-4/
END:VEVENT
BEGIN:VEVENT
DTSTART;TZID=Asia/Kuala_Lumpur:20260504T000000
DTEND;TZID=Asia/Kuala_Lumpur:20260504T000000
DTSTAMP:20260420T135551
CREATED:20260407T011640Z
LAST-MODIFIED:20260407T011640Z
UID:5554-1777852800-1777852800@kgtghpeket100.nadi.my
SUMMARY:VOD - Revision Video 35
DESCRIPTION:
URL:https://kgtghpeket100.nadi.my/event/vod-revision-video-35-3/
END:VEVENT
BEGIN:VEVENT
DTSTART;TZID=Asia/Kuala_Lumpur:20260604T000000
DTEND;TZID=Asia/Kuala_Lumpur:20260604T000000
DTSTAMP:20260420T135551
CREATED:20260407T011641Z
LAST-MODIFIED:20260407T011641Z
UID:5555-1780531200-1780531200@kgtghpeket100.nadi.my
SUMMARY:Guidance Tuition BM\, MT Ting 4
DESCRIPTION:
URL:https://kgtghpeket100.nadi.my/event/guidance-tuition-bm-mt-ting-4/
END:VEVENT
BEGIN:VEVENT
DTSTART;TZID=Asia/Kuala_Lumpur:20260604T000000
DTEND;TZID=Asia/Kuala_Lumpur:20260604T000000
DTSTAMP:20260420T135551
CREATED:20260407T011641Z
LAST-MODIFIED:20260407T011641Z
UID:5556-1780531200-1780531200@kgtghpeket100.nadi.my
SUMMARY:Open Tuition MT Ting 1-5
DESCRIPTION:
URL:https://kgtghpeket100.nadi.my/event/open-tuition-mt-ting-1-5/
END:VEVENT
BEGIN:VEVENT
DTSTART;TZID=Asia/Kuala_Lumpur:20260604T000000
DTEND;TZID=Asia/Kuala_Lumpur:20260604T000000
DTSTAMP:20260420T135551
CREATED:20260407T011641Z
LAST-MODIFIED:20260407T011641Z
UID:5557-1780531200-1780531200@kgtghpeket100.nadi.my
SUMMARY:VOD - Revision Video 36
DESCRIPTION:
URL:https://kgtghpeket100.nadi.my/event/vod-revision-video-36/
END:VEVENT
BEGIN:VEVENT
DTSTART;TZID=Asia/Kuala_Lumpur:20260604T000000
DTEND;TZID=Asia/Kuala_Lumpur:20260604T000000
DTSTAMP:20260420T135551
CREATED:20260407T011641Z
LAST-MODIFIED:20260407T011641Z
UID:5558-1780531200-1780531200@kgtghpeket100.nadi.my
SUMMARY:EP Lesson 28
DESCRIPTION:
URL:https://kgtghpeket100.nadi.my/event/ep-lesson-28/
END:VEVENT
BEGIN:VEVENT
DTSTART;TZID=Asia/Kuala_Lumpur:20260704T000000
DTEND;TZID=Asia/Kuala_Lumpur:20260704T000000
DTSTAMP:20260420T135551
CREATED:20260407T011641Z
LAST-MODIFIED:20260407T011641Z
UID:5559-1783123200-1783123200@kgtghpeket100.nadi.my
SUMMARY:Guidance Tuition SEJ\, BM Ting 4
DESCRIPTION:
URL:https://kgtghpeket100.nadi.my/event/guidance-tuition-sej-bm-ting-4/
END:VEVENT
BEGIN:VEVENT
DTSTART;TZID=Asia/Kuala_Lumpur:20260704T000000
DTEND;TZID=Asia/Kuala_Lumpur:20260704T000000
DTSTAMP:20260420T135551
CREATED:20260407T011657Z
LAST-MODIFIED:20260407T011657Z
UID:5560-1783123200-1783123200@kgtghpeket100.nadi.my
SUMMARY:Open Tuition BI Ting 1-5
DESCRIPTION:
URL:https://kgtghpeket100.nadi.my/event/open-tuition-bi-ting-1-5/
END:VEVENT
BEGIN:VEVENT
DTSTART;TZID=Asia/Kuala_Lumpur:20260704T000000
DTEND;TZID=Asia/Kuala_Lumpur:20260704T000000
DTSTAMP:20260420T135551
CREATED:20260407T011657Z
LAST-MODIFIED:20260407T011657Z
UID:5561-1783123200-1783123200@kgtghpeket100.nadi.my
SUMMARY:VOD - Revision Video 36
DESCRIPTION:
URL:https://kgtghpeket100.nadi.my/event/vod-revision-video-36-2/
END:VEVENT
BEGIN:VEVENT
DTSTART;TZID=Asia/Kuala_Lumpur:20260704T000000
DTEND;TZID=Asia/Kuala_Lumpur:20260704T000000
DTSTAMP:20260420T135551
CREATED:20260407T011657Z
LAST-MODIFIED:20260407T011657Z
UID:5562-1783123200-1783123200@kgtghpeket100.nadi.my
SUMMARY:EP Lesson 28
DESCRIPTION:
URL:https://kgtghpeket100.nadi.my/event/ep-lesson-28-2/
END:VEVENT
BEGIN:VEVENT
DTSTART;TZID=Asia/Kuala_Lumpur:20260804T000000
DTEND;TZID=Asia/Kuala_Lumpur:20260804T000000
DTSTAMP:20260420T135551
CREATED:20260407T011657Z
LAST-MODIFIED:20260407T011657Z
UID:5563-1785801600-1785801600@kgtghpeket100.nadi.my
SUMMARY:Hari Kokurikulum
DESCRIPTION:
URL:https://kgtghpeket100.nadi.my/event/hari-kokurikulum/
END:VEVENT
BEGIN:VEVENT
DTSTART;TZID=Asia/Kuala_Lumpur:20260804T000000
DTEND;TZID=Asia/Kuala_Lumpur:20260804T000000
DTSTAMP:20260420T135551
CREATED:20260407T011657Z
LAST-MODIFIED:20260407T011657Z
UID:5564-1785801600-1785801600@kgtghpeket100.nadi.my
SUMMARY:VOD - Revision Video 36
DESCRIPTION:
URL:https://kgtghpeket100.nadi.my/event/vod-revision-video-36-3/
END:VEVENT
BEGIN:VEVENT
DTSTART;TZID=Asia/Kuala_Lumpur:20260804T000000
DTEND;TZID=Asia/Kuala_Lumpur:20260804T000000
DTSTAMP:20260420T135551
CREATED:20260407T011858Z
LAST-MODIFIED:20260407T011858Z
UID:5565-1785801600-1785801600@kgtghpeket100.nadi.my
SUMMARY:EP Lesson 28
DESCRIPTION:
URL:https://kgtghpeket100.nadi.my/event/ep-lesson-28-3/
END:VEVENT
END:VCALENDAR