BEGIN:VCALENDAR
VERSION:2.0
PRODID:-//NADI Kampung Tengah Peket 100 - ECPv6.15.20//NONSGML v1.0//EN
CALSCALE:GREGORIAN
METHOD:PUBLISH
X-WR-CALNAME:NADI Kampung Tengah Peket 100
X-ORIGINAL-URL:https://kgtghpeket100.nadi.my
X-WR-CALDESC:Events for NADI Kampung Tengah Peket 100
REFRESH-INTERVAL;VALUE=DURATION:PT1H
X-Robots-Tag:noindex
X-PUBLISHED-TTL:PT1H
BEGIN:VTIMEZONE
TZID:Asia/Kuala_Lumpur
BEGIN:STANDARD
TZOFFSETFROM:+0800
TZOFFSETTO:+0800
TZNAME:+08
DTSTART:20250101T000000
END:STANDARD
END:VTIMEZONE
BEGIN:VEVENT
DTSTART;TZID=Asia/Kuala_Lumpur:20260302T000000
DTEND;TZID=Asia/Kuala_Lumpur:20260302T000000
DTSTAMP:20260420T082010
CREATED:20260110T042708Z
LAST-MODIFIED:20260110T042708Z
UID:5209-1772409600-1772409600@kgtghpeket100.nadi.my
SUMMARY:Kidsventure 1 - Rakaman & Video Pembelajaran: Pemasaran 2
DESCRIPTION:
URL:https://kgtghpeket100.nadi.my/event/kidsventure-1-rakaman-video-pembelajaran-pemasaran-2-2/
END:VEVENT
BEGIN:VEVENT
DTSTART;TZID=Asia/Kuala_Lumpur:20260303T000000
DTEND;TZID=Asia/Kuala_Lumpur:20260303T000000
DTSTAMP:20260420T082010
CREATED:20260219T064914Z
LAST-MODIFIED:20260219T064914Z
UID:5392-1772496000-1772496000@kgtghpeket100.nadi.my
SUMMARY:Mahir Foto Short Learning Series
DESCRIPTION:
URL:https://kgtghpeket100.nadi.my/event/mahir-foto-short-learning-series/
END:VEVENT
BEGIN:VEVENT
DTSTART;TZID=Asia/Kuala_Lumpur:20260304T000000
DTEND;TZID=Asia/Kuala_Lumpur:20260304T000000
DTSTAMP:20260420T082010
CREATED:20260407T011640Z
LAST-MODIFIED:20260407T011640Z
UID:5551-1772582400-1772582400@kgtghpeket100.nadi.my
SUMMARY:Good April (Sabah & Sarawak - Cuti)
DESCRIPTION:
URL:https://kgtghpeket100.nadi.my/event/good-april-sabah-sarawak-cuti/
END:VEVENT
BEGIN:VEVENT
DTSTART;TZID=Asia/Kuala_Lumpur:20260305T000000
DTEND;TZID=Asia/Kuala_Lumpur:20260305T000000
DTSTAMP:20260420T082010
CREATED:20260219T064914Z
LAST-MODIFIED:20260219T064914Z
UID:5393-1772668800-1772668800@kgtghpeket100.nadi.my
SUMMARY:Mahir Jahit Short Learning Series
DESCRIPTION:
URL:https://kgtghpeket100.nadi.my/event/mahir-jahit-short-learning-series/
END:VEVENT
BEGIN:VEVENT
DTSTART;TZID=Asia/Kuala_Lumpur:20260306T000000
DTEND;TZID=Asia/Kuala_Lumpur:20260306T000000
DTSTAMP:20260420T082010
CREATED:20260219T064915Z
LAST-MODIFIED:20260219T064915Z
UID:5399-1772755200-1772755200@kgtghpeket100.nadi.my
SUMMARY:Mahir Masak Short Learning Series
DESCRIPTION:
URL:https://kgtghpeket100.nadi.my/event/mahir-masak-short-learning-series-2/
END:VEVENT
BEGIN:VEVENT
DTSTART;TZID=Asia/Kuala_Lumpur:20260306T000000
DTEND;TZID=Asia/Kuala_Lumpur:20260306T000000
DTSTAMP:20260420T082010
CREATED:20260219T064915Z
LAST-MODIFIED:20260219T064915Z
UID:5394-1772755200-1772755200@kgtghpeket100.nadi.my
SUMMARY:Mahir Masak Short Learning Series
DESCRIPTION:
URL:https://kgtghpeket100.nadi.my/event/mahir-masak-short-learning-series/
END:VEVENT
BEGIN:VEVENT
DTSTART;TZID=Asia/Kuala_Lumpur:20260307T000000
DTEND;TZID=Asia/Kuala_Lumpur:20260307T000000
DTSTAMP:20260420T082010
CREATED:20260110T034503Z
LAST-MODIFIED:20260110T042708Z
UID:5139-1772841600-1772841600@kgtghpeket100.nadi.my
SUMMARY:Kidsventure 1 - Webinar Atas Talian: Pelan Perniagaan Mini 1
DESCRIPTION:
URL:https://kgtghpeket100.nadi.my/event/kidsventure-1-webinar-atas-talian-pelan-perniagaan-mini-1-2/
END:VEVENT
BEGIN:VEVENT
DTSTART;TZID=Asia/Kuala_Lumpur:20260307T000000
DTEND;TZID=Asia/Kuala_Lumpur:20260307T000000
DTSTAMP:20260420T082010
CREATED:20260219T064915Z
LAST-MODIFIED:20260219T064915Z
UID:5395-1772841600-1772841600@kgtghpeket100.nadi.my
SUMMARY:Nuzul Al-Quran
DESCRIPTION:
URL:https://kgtghpeket100.nadi.my/event/nuzul-al-quran/
END:VEVENT
BEGIN:VEVENT
DTSTART;TZID=Asia/Kuala_Lumpur:20260308T000000
DTEND;TZID=Asia/Kuala_Lumpur:20260308T000000
DTSTAMP:20260420T082010
CREATED:20260219T064915Z
LAST-MODIFIED:20260219T064915Z
UID:5396-1772928000-1772928000@kgtghpeket100.nadi.my
SUMMARY:Ihya Ramadan: Jom Mengaji @ NADI (Majlis Khatam)
DESCRIPTION:
URL:https://kgtghpeket100.nadi.my/event/ihya-ramadan-jom-mengaji-nadi-majlis-khatam/
END:VEVENT
BEGIN:VEVENT
DTSTART;TZID=Asia/Kuala_Lumpur:20260308T000000
DTEND;TZID=Asia/Kuala_Lumpur:20260308T000000
DTSTAMP:20260420T082010
CREATED:20260219T064915Z
LAST-MODIFIED:20260219T064915Z
UID:5397-1772928000-1772928000@kgtghpeket100.nadi.my
SUMMARY:Ihya Ramadan: Jom Mengaji @ NADI (Majlis Khatam - Sesi 2 TBC)
DESCRIPTION:
URL:https://kgtghpeket100.nadi.my/event/ihya-ramadan-jom-mengaji-nadi-majlis-khatam-sesi-2-tbc/
END:VEVENT
BEGIN:VEVENT
DTSTART;TZID=Asia/Kuala_Lumpur:20260309T000000
DTEND;TZID=Asia/Kuala_Lumpur:20260309T000000
DTSTAMP:20260420T082010
CREATED:20260110T034504Z
LAST-MODIFIED:20260110T042708Z
UID:5140-1773014400-1773014400@kgtghpeket100.nadi.my
SUMMARY:Kidsventure 1 - Rakaman & Video Pembelajaran: Pelan Perniagaan Mini 1
DESCRIPTION:
URL:https://kgtghpeket100.nadi.my/event/kidsventure-1-rakaman-video-pembelajaran-pelan-perniagaan-mini-1-2/
END:VEVENT
BEGIN:VEVENT
DTSTART;TZID=Asia/Kuala_Lumpur:20260310T000000
DTEND;TZID=Asia/Kuala_Lumpur:20260310T000000
DTSTAMP:20260420T082010
CREATED:20260219T064915Z
LAST-MODIFIED:20260219T064915Z
UID:5398-1773100800-1773100800@kgtghpeket100.nadi.my
SUMMARY:Mahir Jahit Short Learning Series
DESCRIPTION:
URL:https://kgtghpeket100.nadi.my/event/mahir-jahit-short-learning-series-2/
END:VEVENT
BEGIN:VEVENT
DTSTART;TZID=Asia/Kuala_Lumpur:20260311T000000
DTEND;TZID=Asia/Kuala_Lumpur:20260311T000000
DTSTAMP:20260420T082010
CREATED:20260219T064931Z
LAST-MODIFIED:20260219T064931Z
UID:5404-1773187200-1773187200@kgtghpeket100.nadi.my
SUMMARY:Mahir Foto Short Learning Series
DESCRIPTION:
URL:https://kgtghpeket100.nadi.my/event/mahir-foto-short-learning-series-2/
END:VEVENT
BEGIN:VEVENT
DTSTART;TZID=Asia/Kuala_Lumpur:20260312T000000
DTEND;TZID=Asia/Kuala_Lumpur:20260312T000000
DTSTAMP:20260420T082010
CREATED:20260219T064931Z
LAST-MODIFIED:20260219T064931Z
UID:5405-1773273600-1773273600@kgtghpeket100.nadi.my
SUMMARY:Mahir Masak Edisi Aidilfitri
DESCRIPTION:
URL:https://kgtghpeket100.nadi.my/event/mahir-masak-edisi-aidilfitri/
END:VEVENT
BEGIN:VEVENT
DTSTART;TZID=Asia/Kuala_Lumpur:20260314T000000
DTEND;TZID=Asia/Kuala_Lumpur:20260314T000000
DTSTAMP:20260420T082010
CREATED:20260110T035917Z
LAST-MODIFIED:20260110T042708Z
UID:5196-1773446400-1773446400@kgtghpeket100.nadi.my
SUMMARY:Kidsventure 1 - Webinar Atas Talian: Pelan Perniagaan Mini 2
DESCRIPTION:
URL:https://kgtghpeket100.nadi.my/event/kidsventure-1-webinar-atas-talian-pelan-perniagaan-mini-2-2/
END:VEVENT
BEGIN:VEVENT
DTSTART;TZID=Asia/Kuala_Lumpur:20260314T000000
DTEND;TZID=Asia/Kuala_Lumpur:20260314T000000
DTSTAMP:20260420T082010
CREATED:20260219T064931Z
LAST-MODIFIED:20260219T064931Z
UID:5406-1773446400-1773446400@kgtghpeket100.nadi.my
SUMMARY:Mahir Foto Competition
DESCRIPTION:
URL:https://kgtghpeket100.nadi.my/event/mahir-foto-competition/
END:VEVENT
BEGIN:VEVENT
DTSTART;TZID=Asia/Kuala_Lumpur:20260316T000000
DTEND;TZID=Asia/Kuala_Lumpur:20260316T000000
DTSTAMP:20260420T082010
CREATED:20260110T035917Z
LAST-MODIFIED:20260110T042723Z
UID:5197-1773619200-1773619200@kgtghpeket100.nadi.my
SUMMARY:Kidsventure 1 - Rakaman & Video Pembelajaran: Pelan Perniagaan Mini 2
DESCRIPTION:
URL:https://kgtghpeket100.nadi.my/event/kidsventure-1-rakaman-video-pembelajaran-pelan-perniagaan-mini-2-2/
END:VEVENT
BEGIN:VEVENT
DTSTART;TZID=Asia/Kuala_Lumpur:20260321T000000
DTEND;TZID=Asia/Kuala_Lumpur:20260321T000000
DTSTAMP:20260420T082010
CREATED:20260219T064931Z
LAST-MODIFIED:20260219T064931Z
UID:5407-1774051200-1774051200@kgtghpeket100.nadi.my
SUMMARY:Hari Raya
DESCRIPTION:
URL:https://kgtghpeket100.nadi.my/event/hari-raya/
END:VEVENT
END:VCALENDAR